BEGIN:VCALENDAR
VERSION:2.0
PRODID:-//Hamilton Bonsai Club - ECPv6.0.8//NONSGML v1.0//EN
CALSCALE:GREGORIAN
METHOD:PUBLISH
X-WR-CALNAME:Hamilton Bonsai Club
X-ORIGINAL-URL:https://hamiltonbonsai.co.nz
X-WR-CALDESC:Events for Hamilton Bonsai Club
REFRESH-INTERVAL;VALUE=DURATION:PT1H
X-Robots-Tag:noindex
X-PUBLISHED-TTL:PT1H
BEGIN:VTIMEZONE
TZID:Pacific/Auckland
BEGIN:STANDARD
TZOFFSETFROM:+1300
TZOFFSETTO:+1200
TZNAME:NZST
DTSTART:20260404T140000
END:STANDARD
BEGIN:DAYLIGHT
TZOFFSETFROM:+1200
TZOFFSETTO:+1300
TZNAME:NZDT
DTSTART:20260926T140000
END:DAYLIGHT
END:VTIMEZONE
BEGIN:VEVENT
DTSTART;TZID=Pacific/Auckland:20260906T140000
DTEND;TZID=Pacific/Auckland:20260906T160000
DTSTAMP:20260421T025940
CREATED:20260202T235923Z
LAST-MODIFIED:20260202T235923Z
UID:8418-1788703200-1788710400@hamiltonbonsai.co.nz
SUMMARY:Club Meeting - Final prep for 2026 Show
DESCRIPTION:The final meeting before the show\, we will go over display aesthetics and tree preparation.
URL:https://hamiltonbonsai.co.nz/event/club-meeting-final-prep-for-2026-show/
LOCATION:Melville Community Hall\, 84 Ōhaupō Road\, Melville\, Hamilton\, Waikato\, 3206\, New Zealand
CATEGORIES:Club Meeting
ATTACH;FMTTYPE=image/jpeg:https://hamiltonbonsai.co.nz/wp-content/uploads/2021/12/Show-Front.jpg
END:VEVENT
BEGIN:VEVENT
DTSTART;TZID=Pacific/Auckland:20260912T090000
DTEND;TZID=Pacific/Auckland:20260913T160000
DTSTAMP:20260421T025941
CREATED:20250720T030944Z
LAST-MODIFIED:20260122T221645Z
UID:8213-1789203600-1789315200@hamiltonbonsai.co.nz
SUMMARY:Hamilton Bonsai Club Show 2026
DESCRIPTION:
URL:https://hamiltonbonsai.co.nz/event/hamilton-bonsai-club-show-2026/
LOCATION:Hamilton Gardens\, Hamilton Gardens Road\, Hamilton\, Waikato\, 3216\, New Zealand
ATTACH;FMTTYPE=image/jpeg:https://hamiltonbonsai.co.nz/wp-content/uploads/2021/12/Quintal.jpg
ORGANIZER;CN="Hamilton%20Bonsai%20Club":MAILTO:hbc.nz.contact@gmail.com
END:VEVENT
END:VCALENDAR