BEGIN:VCALENDAR
VERSION:2.0
PRODID:-//Hamilton Bonsai Club - ECPv6.0.8//NONSGML v1.0//EN
CALSCALE:GREGORIAN
METHOD:PUBLISH
X-WR-CALNAME:Hamilton Bonsai Club
X-ORIGINAL-URL:https://hamiltonbonsai.co.nz
X-WR-CALDESC:Events for Hamilton Bonsai Club
REFRESH-INTERVAL;VALUE=DURATION:PT1H
X-Robots-Tag:noindex
X-PUBLISHED-TTL:PT1H
BEGIN:VTIMEZONE
TZID:Pacific/Auckland
BEGIN:STANDARD
TZOFFSETFROM:+1300
TZOFFSETTO:+1200
TZNAME:NZST
DTSTART:20250405T140000
END:STANDARD
BEGIN:DAYLIGHT
TZOFFSETFROM:+1200
TZOFFSETTO:+1300
TZNAME:NZDT
DTSTART:20250927T140000
END:DAYLIGHT
END:VTIMEZONE
BEGIN:VEVENT
DTSTART;TZID=Pacific/Auckland:20250301T090000
DTEND;TZID=Pacific/Auckland:20250301T163000
DTSTAMP:20260421T095957
CREATED:20250125T042714Z
LAST-MODIFIED:20250303T085610Z
UID:7829-1740819600-1740846600@hamiltonbonsai.co.nz
SUMMARY:Club Workshop
DESCRIPTION:Two half-day workshops will be held at Steve’s place (under the carport). \n$15 per person – max 6 people per workshop. \nWork on your trees guided by our senior club members Sandra and Steve. \nSession 1:  9am to 12:30pm \nSession 2: 1pm to 4:30pm \nSignup below: \n 
URL:https://hamiltonbonsai.co.nz/event/club-workshop/
LOCATION:Steve’s Bonsai Dojo
CATEGORIES:Workshop
ATTACH;FMTTYPE=image/png:https://hamiltonbonsai.co.nz/wp-content/uploads/2024/01/workshop.png
ORGANIZER;CN="Hamilton%20Bonsai%20Club":MAILTO:hbc.nz.contact@gmail.com
END:VEVENT
BEGIN:VEVENT
DTSTART;TZID=Pacific/Auckland:20250309T140000
DTEND;TZID=Pacific/Auckland:20250309T160000
DTSTAMP:20260421T095957
CREATED:20250121T103022Z
LAST-MODIFIED:20250125T042927Z
UID:7821-1741528800-1741536000@hamiltonbonsai.co.nz
SUMMARY:Club Meeting - Clip & Grow Bonsai Shaping
DESCRIPTION:Bring a tree for this hands-on active meeting focusing on the Clip & Grow technique for shaping bonsai.
URL:https://hamiltonbonsai.co.nz/event/club-meeting-clip-grow-bonsai-shaping/
CATEGORIES:Club Meeting
ATTACH;FMTTYPE=image/png:https://hamiltonbonsai.co.nz/wp-content/uploads/2024/01/meeting.png
END:VEVENT
BEGIN:VEVENT
DTSTART;TZID=Pacific/Auckland:20250313T190000
DTEND;TZID=Pacific/Auckland:20250313T210000
DTSTAMP:20260421T095957
CREATED:20250130T090302Z
LAST-MODIFIED:20250130T091253Z
UID:7890-1741892400-1741899600@hamiltonbonsai.co.nz
SUMMARY:Beginners Class - Intro to Bonsai
DESCRIPTION:Week 1: Introduction to Bonsai \n 
URL:https://hamiltonbonsai.co.nz/event/beginners-class-intro-to-bonsai/
LOCATION:HBC Classroom
CATEGORIES:Beginners Classes
ATTACH;FMTTYPE=image/jpeg:https://hamiltonbonsai.co.nz/wp-content/uploads/2024/05/class.jpeg
ORGANIZER;CN="Hamilton%20Bonsai%20Club%20Classes":MAILTO:hbc.nz.classes@gmail.com
END:VEVENT
BEGIN:VEVENT
DTSTART;TZID=Pacific/Auckland:20250320T190000
DTEND;TZID=Pacific/Auckland:20250320T210000
DTSTAMP:20260421T095957
CREATED:20250130T090703Z
LAST-MODIFIED:20250130T091347Z
UID:7893-1742497200-1742504400@hamiltonbonsai.co.nz
SUMMARY:Beginners Class - Intro to Pruning
DESCRIPTION:Week 2: Introduction to Pruning
URL:https://hamiltonbonsai.co.nz/event/beginners-class-intro-to-pruning/
LOCATION:HBC Classroom
CATEGORIES:Beginners Classes
ATTACH;FMTTYPE=image/jpeg:https://hamiltonbonsai.co.nz/wp-content/uploads/2024/05/class.jpeg
ORGANIZER;CN="Hamilton%20Bonsai%20Club%20Classes":MAILTO:hbc.nz.classes@gmail.com
END:VEVENT
BEGIN:VEVENT
DTSTART;TZID=Pacific/Auckland:20250327T190000
DTEND;TZID=Pacific/Auckland:20250327T210000
DTSTAMP:20260421T095957
CREATED:20250130T090814Z
LAST-MODIFIED:20250130T091056Z
UID:7895-1743102000-1743109200@hamiltonbonsai.co.nz
SUMMARY:Beginners Class - Intro to Shaping
DESCRIPTION:Week3: Introduction to Shaping
URL:https://hamiltonbonsai.co.nz/event/beginners-class-intro-to-shaping/
LOCATION:HBC Classroom
CATEGORIES:Beginners Classes
ATTACH;FMTTYPE=image/jpeg:https://hamiltonbonsai.co.nz/wp-content/uploads/2024/05/class.jpeg
ORGANIZER;CN="Hamilton%20Bonsai%20Club%20Classes":MAILTO:hbc.nz.classes@gmail.com
END:VEVENT
BEGIN:VEVENT
DTSTART;TZID=Pacific/Auckland:20250329T090000
DTEND;TZID=Pacific/Auckland:20250329T163000
DTSTAMP:20260421T095957
CREATED:20250125T043121Z
LAST-MODIFIED:20250303T085810Z
UID:7833-1743238800-1743265800@hamiltonbonsai.co.nz
SUMMARY:Repotting Workshop
DESCRIPTION:Two half-day workshops will be held at Steve’s place (under the carport). \n$15 per person – max 6 people per workshop. \nRepot your tree guided by our senior club members Sandra and Steve. \nYou must bring your own pots\, trees\, wire and mix. \nSession 1:  9am to 12:30pm \nSession 2: 1pm to 4:30pm \nSignup page below: \n\n                \n                        \n                            Free Club Workshop\n                            \n                        \n        \n        	Step 1 of 2\n        	\n            \n                50%\n            \n                        \n                                    Name*\n                            \n                            \n                                                    \n                                                    First\n                                                \n                            \n                            \n                                                    \n                                                    Last\n                                                \n                            \n                        Email*\n                            \n                        Phone*\n                    \n                    \n                          \n                    \n                \n                \n                    \n                        Are you a HBC member or Beginners Class student?*This sign up page is for club members and beginners class students only.\n			\n				\n				Yes\n			\n			\n				\n				No\n			Please select which Workshop session you would like to attend\nSelect "Either" if you're able to attend AM or PMSaturday 1/2 Day WorkshopPlease indicate below if you can do either time slot so we can accommodate all participants at these workshops.\n			\n				\n				Sat AM Only (reserved for beginner class students)\n			\n			\n				\n				Sat PM Only\n			\n			\n				\n				None\n			\nSelected Sessions:Saturday Morning Saturday Afternoon Saturday Anytime Total PriceBased on your selected options above\, the total required to pay: \n							$ 0.00\n							\n						Bank account details are sent to you upon filling out this form via email to the address you've provided.EmailThis field is for validation purposes and should be left unchanged.
URL:https://hamiltonbonsai.co.nz/event/repotting-workshop/
LOCATION:Steve’s Bonsai Dojo
CATEGORIES:Workshop
ATTACH;FMTTYPE=image/png:https://hamiltonbonsai.co.nz/wp-content/uploads/2024/01/workshop.png
ORGANIZER;CN="Hamilton%20Bonsai%20Club":MAILTO:hbc.nz.contact@gmail.com
END:VEVENT
END:VCALENDAR