BEGIN:VCALENDAR
VERSION:2.0
PRODID:-//Hamilton Bonsai Club - ECPv6.0.8//NONSGML v1.0//EN
CALSCALE:GREGORIAN
METHOD:PUBLISH
X-ORIGINAL-URL:https://hamiltonbonsai.co.nz
X-WR-CALDESC:Events for Hamilton Bonsai Club
REFRESH-INTERVAL;VALUE=DURATION:PT1H
X-Robots-Tag:noindex
X-PUBLISHED-TTL:PT1H
BEGIN:VTIMEZONE
TZID:Pacific/Auckland
BEGIN:STANDARD
TZOFFSETFROM:+1300
TZOFFSETTO:+1200
TZNAME:NZST
DTSTART:20180331T140000
END:STANDARD
BEGIN:DAYLIGHT
TZOFFSETFROM:+1200
TZOFFSETTO:+1300
TZNAME:NZDT
DTSTART:20180929T140000
END:DAYLIGHT
END:VTIMEZONE
BEGIN:VEVENT
DTSTART;VALUE=DATE:20180714
DTEND;VALUE=DATE:20180716
DTSTAMP:20260425T031224
CREATED:20180420T225010Z
LAST-MODIFIED:20180527T104703Z
UID:3963-1531526400-1531699199@hamiltonbonsai.co.nz
SUMMARY:Tony Bebb Workshop
DESCRIPTION:This is your chance to work with an Australian Bonsai expert\, Tony Bebb.\nThis will be the start of a three year programme. The idea is you select a tree that can be developed over three years. Tony will revisit the club July 2019 and 2020 to continue development of the tree you have selected. \nThe Hamilton Bonsai Club is now taking registrations to this workshop with Tony. To reserve your place fill out the form below and follow the payment instructions provided. Payments must be received to secure your spot. \nSession times: \n\nMorning Session: 9am till 12:30pm\nAfternoon Session: 1pm till 4:30pm\n\nPlease arrive 15min before the session starts \nPrice per session: \n\n$50 for Workshop participant\n$10 to observe\n\nLimited places available\, your registration won’t be confirmed until payment is received.
URL:https://hamiltonbonsai.co.nz/event/tony-bebb-workshop-2018/
LOCATION:Waikato Society of Potters\, Cnr Ward Street and Seddon Road\, Hamilton\, New Zealand
CATEGORIES:Workshop
ATTACH;FMTTYPE=image/jpeg:https://hamiltonbonsai.co.nz/wp-content/uploads/2017/04/march-2017-hamilton-bonsai-club-workshop-tony-bebb-08.jpg
ORGANIZER;CN="Hamilton%20Bonsai%20Club":MAILTO:hbc.nz.contact@gmail.com
END:VEVENT
END:VCALENDAR