BEGIN:VCALENDAR
VERSION:2.0
PRODID:-//Hamilton Bonsai Club - ECPv6.0.8//NONSGML v1.0//EN
CALSCALE:GREGORIAN
METHOD:PUBLISH
X-ORIGINAL-URL:https://hamiltonbonsai.co.nz
X-WR-CALDESC:Events for Hamilton Bonsai Club
REFRESH-INTERVAL;VALUE=DURATION:PT1H
X-Robots-Tag:noindex
X-PUBLISHED-TTL:PT1H
BEGIN:VTIMEZONE
TZID:Pacific/Auckland
BEGIN:STANDARD
TZOFFSETFROM:+1300
TZOFFSETTO:+1200
TZNAME:NZST
DTSTART:20240406T140000
END:STANDARD
BEGIN:DAYLIGHT
TZOFFSETFROM:+1200
TZOFFSETTO:+1300
TZNAME:NZDT
DTSTART:20240928T140000
END:DAYLIGHT
END:VTIMEZONE
BEGIN:VEVENT
DTSTART;TZID=Pacific/Auckland:20240211T140000
DTEND;TZID=Pacific/Auckland:20240211T160000
DTSTAMP:20260424T091824
CREATED:20240113T055231Z
LAST-MODIFIED:20240113T060224Z
UID:7123-1707660000-1707667200@hamiltonbonsai.co.nz
SUMMARY:Club Meeting - Saikei Workshop
DESCRIPTION:Rock landscape with trees
URL:https://hamiltonbonsai.co.nz/event/saikei-workshop/
LOCATION:St Francis Church Hall\, 92 Mansel Ave\, Hillcrest\, Hamilton\, Waikato\, 3216\, New Zealand
CATEGORIES:Club Meeting
ORGANIZER;CN="Hamilton%20Bonsai%20Club":MAILTO:hbc.nz.contact@gmail.com
END:VEVENT
END:VCALENDAR