BEGIN:VCALENDAR
VERSION:2.0
PRODID:-//Hamilton Bonsai Club - ECPv6.0.8//NONSGML v1.0//EN
CALSCALE:GREGORIAN
METHOD:PUBLISH
X-ORIGINAL-URL:https://hamiltonbonsai.co.nz
X-WR-CALDESC:Events for Hamilton Bonsai Club
REFRESH-INTERVAL;VALUE=DURATION:PT1H
X-Robots-Tag:noindex
X-PUBLISHED-TTL:PT1H
BEGIN:VTIMEZONE
TZID:Pacific/Auckland
BEGIN:STANDARD
TZOFFSETFROM:+1300
TZOFFSETTO:+1200
TZNAME:NZST
DTSTART:20240406T140000
END:STANDARD
BEGIN:DAYLIGHT
TZOFFSETFROM:+1200
TZOFFSETTO:+1300
TZNAME:NZDT
DTSTART:20240928T140000
END:DAYLIGHT
END:VTIMEZONE
BEGIN:VEVENT
DTSTART;TZID=Pacific/Auckland:20241208T140000
DTEND;TZID=Pacific/Auckland:20241208T160000
DTSTAMP:20260420T214927
CREATED:20240113T060131Z
LAST-MODIFIED:20241119T211854Z
UID:7150-1733666400-1733673600@hamiltonbonsai.co.nz
SUMMARY:Club Meeting - HBC Christmas Meeting
DESCRIPTION:Bring a decorated bonsai\, mini bring and buy + festive games (friends & family welcome) \nTrevor from Arbonsai will be selling tools and accessories on the day:  https://arbonsai.co.nz/ \nEach person please bring a secret Santa gift (approx. $10).
URL:https://hamiltonbonsai.co.nz/event/hbc-christmas-meeting/
LOCATION:Melville Community Hall\, 84 Ōhaupō Road\, Melville\, Hamilton\, Waikato\, 3206\, New Zealand
CATEGORIES:Club Meeting
ATTACH;FMTTYPE=image/jpeg:https://hamiltonbonsai.co.nz/wp-content/uploads/2019/02/December-2018-hamilton-bonsai-club-meeting-01.jpg
ORGANIZER;CN="Hamilton%20Bonsai%20Club":MAILTO:hbc.nz.contact@gmail.com
END:VEVENT
END:VCALENDAR