BEGIN:VCALENDAR
VERSION:2.0
PRODID:-//Hamilton Bonsai Club - ECPv6.0.8//NONSGML v1.0//EN
CALSCALE:GREGORIAN
METHOD:PUBLISH
X-ORIGINAL-URL:https://hamiltonbonsai.co.nz
X-WR-CALDESC:Events for Hamilton Bonsai Club
REFRESH-INTERVAL;VALUE=DURATION:PT1H
X-Robots-Tag:noindex
X-PUBLISHED-TTL:PT1H
BEGIN:VTIMEZONE
TZID:Pacific/Auckland
BEGIN:STANDARD
TZOFFSETFROM:+1300
TZOFFSETTO:+1200
TZNAME:NZST
DTSTART:20260404T140000
END:STANDARD
BEGIN:DAYLIGHT
TZOFFSETFROM:+1200
TZOFFSETTO:+1300
TZNAME:NZDT
DTSTART:20260926T140000
END:DAYLIGHT
END:VTIMEZONE
BEGIN:VEVENT
DTSTART;TZID=Pacific/Auckland:20260220T100000
DTEND;TZID=Pacific/Auckland:20260222T170000
DTSTAMP:20260424T092242
CREATED:20260203T003627Z
LAST-MODIFIED:20260203T003627Z
UID:8430-1771581600-1771779600@hamiltonbonsai.co.nz
SUMMARY:Rotorua Bonsai Club Show
DESCRIPTION:To be held at the Rotorua Home & Garden Show.
URL:https://hamiltonbonsai.co.nz/event/rotorua-bonsai-club-show/
LOCATION:Energy Events Centre\, Queens Dr\, Rotorua\, Queens Drive\, Rotorua\, New Zealand
ATTACH;FMTTYPE=image/png:https://hamiltonbonsai.co.nz/wp-content/uploads/2026/02/Screenshot-2026-02-03-133533.png
END:VEVENT
BEGIN:VEVENT
DTSTART;TZID=Pacific/Auckland:20260222T090000
DTEND;TZID=Pacific/Auckland:20260222T163000
DTSTAMP:20260424T092242
CREATED:20260203T111729Z
LAST-MODIFIED:20260322T012348Z
UID:8464-1771750800-1771777800@hamiltonbonsai.co.nz
SUMMARY:Sandra Quintal 3 Year Shohin Programme Workshop
DESCRIPTION:Held at Steve’s place.
URL:https://hamiltonbonsai.co.nz/event/sandra-quintal-3-year-shohin-programme-workshop/
ATTACH;FMTTYPE=image/jpeg:https://hamiltonbonsai.co.nz/wp-content/uploads/2021/12/Quintal.jpg
END:VEVENT
END:VCALENDAR