BEGIN:VCALENDAR
VERSION:2.0
PRODID:-//Hamilton Bonsai Club - ECPv6.0.8//NONSGML v1.0//EN
CALSCALE:GREGORIAN
METHOD:PUBLISH
X-ORIGINAL-URL:https://hamiltonbonsai.co.nz
X-WR-CALDESC:Events for Hamilton Bonsai Club
REFRESH-INTERVAL;VALUE=DURATION:PT1H
X-Robots-Tag:noindex
X-PUBLISHED-TTL:PT1H
BEGIN:VTIMEZONE
TZID:Pacific/Auckland
BEGIN:STANDARD
TZOFFSETFROM:+1300
TZOFFSETTO:+1200
TZNAME:NZST
DTSTART:20230401T140000
END:STANDARD
BEGIN:DAYLIGHT
TZOFFSETFROM:+1200
TZOFFSETTO:+1300
TZNAME:NZDT
DTSTART:20230923T140000
END:DAYLIGHT
END:VTIMEZONE
BEGIN:VEVENT
DTSTART;VALUE=DATE:20231216
DTEND;VALUE=DATE:20231218
DTSTAMP:20260421T001934
CREATED:20230123T033537Z
LAST-MODIFIED:20230930T191445Z
UID:6783-1702684800-1702857599@hamiltonbonsai.co.nz
SUMMARY:HBC Annual Bonsai Show 2023
DESCRIPTION:High quality bonsai on display\, trade stands\, informal demonstrations and an opportunity for you to get help with your own bonsai. \nThe annual show will be at the Hamilton Gardens Pavilion.\nDate: Saturday 16th & Sunday 17th December 2023\nTime: 9am – 4pm \nEntry: $5 for adults & over 12’s\nEftpos is available.
URL:https://hamiltonbonsai.co.nz/event/hbc-annual-bonsai-show-2023/
LOCATION:Hamilton Gardens\, Hamilton Gardens Road\, Hamilton\, Waikato\, 3216\, New Zealand
CATEGORIES:Annual Bonsai Show
ORGANIZER;CN="Hamilton%20Bonsai%20Club":MAILTO:hbc.nz.contact@gmail.com
END:VEVENT
BEGIN:VEVENT
DTSTART;VALUE=DATE:20231216
DTEND;VALUE=DATE:20231218
DTSTAMP:20260421T001934
CREATED:20230608T223637Z
LAST-MODIFIED:20230930T200405Z
UID:6859-1702684800-1702857599@hamiltonbonsai.co.nz
SUMMARY:Hamilton Bonsai Club Annual Show 2023
DESCRIPTION:High quality bonsai on display\, trade stands\, informal demonstrations and an opportunity for you to get help with your own bonsai. \nThe annual show will be at the newly renovated Hamilton Garden Pavilion.\nDate: Saturday 16th & Sunday 17th December 2023\nTime: 9am – 4pm \nEntry: $5 for adults & over 12’s\nEftpos is available.
URL:https://hamiltonbonsai.co.nz/event/hamilton-bonsai-club-annual-show-2023/
LOCATION:Hamilton Gardens\, Hamilton Gardens Road\, Hamilton\, Waikato\, 3216\, New Zealand
CATEGORIES:Annual Bonsai Show
ORGANIZER;CN="Hamilton%20Bonsai%20Club":MAILTO:hbc.nz.contact@gmail.com
END:VEVENT
END:VCALENDAR